Workbook

Sheet Bridge
B1: 2023 Data | S1: 2024 Data
A3: Student | B3: Teacher | C3: Interact with Books | D3: Interact with print | E3: Direct and take ownership | F3: Interact with symbols | G3: Engage in reading | H3: Draw/write motor | I3: Use print | J3: Use symbolic language | K3: Write name | L3: Alphabet knowledge | M3: Phon A | N3: Phonemic A | O3: Oral language | P3: Story telling | Q3: Writing | R3: Student | S3: Teacher | T3: Interact with Books | U3: Interact with print | V3: Direct and take ownership | W3: Interact with symbols | X3: Engage in reading | Y3: Draw/write motor | Z3: Use print | AA3: Use symbolic language | AB3: Write name | AC3: Alphabet knowledge | AD3: Phon A | AE3: Phonemic A | AF3: Oral language | AG3: Story telling | AH3: Writing

Sheet Emergent
B1: 2023 Data | K1: 2024 Data
C2: Raw Scores | F2: Percentage | I2: Focus areas | M2: Raw Scores | P2: Percentage | S2: Focus areas | U2: 2023 - 2024 Growth
C3: Average | M3: Average | U3: Average
C4: =AVERAGE(C7:C31) -> #DIV/0! | D4: =AVERAGE(D7:D31) -> #DIV/0! | E4: =AVERAGE(E7:E31) -> #DIV/0! | M4: =AVERAGE(M7:M31) -> #DIV/0! | N4: =AVERAGE(N7:N31) -> #DIV/0! | O4: =AVERAGE(O7:O31) -> #DIV/0! | U4: =M4-#REF! -> #DIV/0! | V4: =N4-#REF! -> #DIV/0! | W4: =O4-#REF! -> #DIV/0!
A5: Student | B5: Teacher | C5: Concepts About Print | D5: Letter ID | E5: Writing | F5: Concepts About Print | G5: Letter ID | H5: Writing | I5: Focus #1 | J5: Focus #2 | K5: Student | L5: Teacher | M5: Concepts About Print | N5: Letter ID | O5: Writing | P5: Concepts About Print | Q5: Letter ID | R5: Writing | S5: Focus #1 | T5: Focus #2 | U5: Concepts About Print | V5: Letter ID | W5: Writing | X5: Numbers of areas of growth
F7: =C7/20 -> 0 | G7: =D7/52 -> 0 | H7: =E7/5 -> 0 | P7: =M7/14 -> 0 | Q7: =N7/52 -> 0 | R7: =O7/5 -> 0 | U7: =M7-C7 -> 0 | V7: =N7-D7 -> 0 | W7: =O7-E7 -> 0 | X7: =COUNTIF(U7:W7,">0") -> 0
F8: =C8/20 -> 0 | G8: =D8/52 -> 0 | H8: =E8/5 -> 0 | P8: =M8/14 -> 0 | Q8: =N8/52 -> 0 | R8: =O8/5 -> 0 | U8: =M8-C8 -> 0 | V8: =N8-Emergent!N8 -> 0 | W8: =O8-Emergent!O8 -> 0 | X8: =COUNTIF(U8:W8,">0") -> 0
F9: =C9/20 -> 0 | G9: =D9/52 -> 0 | H9: =E9/5 -> 0 | P9: =M9/14 -> 0 | Q9: =N9/52 -> 0 | R9: =O9/5 -> 0 | U9: =M9-C9 -> 0 | V9: =N9-Emergent!N9 -> 0 | W9: =O9-Emergent!O9 -> 0 | X9: =COUNTIF(U9:W9,">0") -> 0
F10: =C10/20 -> 0 | G10: =D10/52 -> 0 | H10: =E10/5 -> 0 | P10: =M10/14 -> 0 | Q10: =N10/52 -> 0 | R10: =O10/5 -> 0 | U10: =M10-C10 -> 0 | V10: =N10-Emergent!N10 -> 0 | W10: =O10-Emergent!O10 -> 0 | X10: =COUNTIF(U10:W10,">0") -> 0
F11: =C11/20 -> 0 | G11: =D11/52 -> 0 | H11: =E11/5 -> 0 | P11: =M11/14 -> 0 | Q11: =N11/52 -> 0 | R11: =O11/5 -> 0 | U11: =M11-C11 -> 0 | V11: =N11-Emergent!N11 -> 0 | W11: =O11-Emergent!O11 -> 0 | X11: =COUNTIF(U11:W11,">0") -> 0
F12: =C12/20 -> 0 | G12: =D12/52 -> 0 | H12: =E12/5 -> 0 | P12: =M12/14 -> 0 | Q12: =N12/52 -> 0 | R12: =O12/5 -> 0 | U12: =M12-C12 -> 0 | V12: =N12-Emergent!N12 -> 0 | W12: =O12-Emergent!O12 -> 0 | X12: =COUNTIF(U12:W12,">0") -> 0
F13: =C13/20 -> 0 | G13: =D13/52 -> 0 | H13: =E13/5 -> 0 | P13: =M13/14 -> 0 | Q13: =N13/52 -> 0 | R13: =O13/5 -> 0 | U13: =M13-C13 -> 0 | V13: =N13-Emergent!N13 -> 0 | W13: =O13-Emergent!O13 -> 0 | X13: =COUNTIF(U13:W13,">0") -> 0
F14: =C14/20 -> 0 | G14: =D14/52 -> 0 | H14: =E14/5 -> 0 | P14: =M14/14 -> 0 | Q14: =N14/52 -> 0 | R14: =O14/5 -> 0 | U14: =M14-C14 -> 0 | V14: =N14-D14 -> 0 | W14: =O14-E14 -> 0 | X14: =COUNTIF(U14:W14,">0") -> 0
F15: =C15/20 -> 0 | G15: =D15/52 -> 0 | H15: =E15/5 -> 0 | P15: =M15/14 -> 0 | Q15: =N15/52 -> 0 | R15: =O15/5 -> 0 | U15: =M15-C15 -> 0 | V15: =N15-Emergent!N16 -> 0 | W15: =O15-Emergent!O16 -> 0 | X15: =COUNTIF(U15:W15,">0") -> 0
F16: =C16/20 -> 0 | G16: =D16/52 -> 0 | H16: =E16/5 -> 0 | P16: =M16/14 -> 0 | Q16: =N16/52 -> 0 | R16: =O16/5 -> 0 | U16: =M16-C16 -> 0 | V16: =N16-D16 -> 0 | W16: =O16-Emergent!O18 -> 0 | X16: =COUNTIF(U16:W16,">0") -> 0
F17: =C17/20 -> 0 | G17: =D17/52 -> 0 | H17: =E17/5 -> 0 | P17: =M17/14 -> 0 | Q17: =N17/52 -> 0 | R17: =O17/5 -> 0 | U17: =M17-C17 -> 0 | V17: =N17-D17 -> 0 | W17: =O17-Emergent!O19 -> 0 | X17: =COUNTIF(U17:W17,">0") -> 0
F18: =C18/20 -> 0 | G18: =D18/52 -> 0 | H18: =E18/5 -> 0 | P18: =M18/14 -> 0 | Q18: =N18/52 -> 0 | R18: =O18/5 -> 0 | U18: =M18-C18 -> 0 | V18: =N18-D18 -> 0 | W18: =O18-Emergent!O20 -> 0 | X18: =COUNTIF(U18:W18,">0") -> 0
F19: =C19/20 -> 0 | G19: =D19/52 -> 0 | H19: =E19/5 -> 0 | P19: =M19/14 -> 0 | Q19: =N19/52 -> 0 | R19: =O19/5 -> 0 | U19: =M19-C19 -> 0 | V19: =N19-D19 -> 0 | W19: =O19-E19 -> 0 | X19: =COUNTIF(U19:W19,">0") -> 0
F20: =C20/20 -> 0 | G20: =D20/52 -> 0 | H20: =E20/5 -> 0 | P20: =M20/14 -> 0 | Q20: =N20/52 -> 0 | R20: =O20/5 -> 0 | U20: =M20-C20 -> 0 | V20: =N20-D20 -> 0 | W20: =O20-E20 -> 0 | X20: =COUNTIF(U20:W20,">0") -> 0
F21: =C21/20 -> 0 | G21: =D21/52 -> 0 | H21: =E21/5 -> 0 | P21: =M21/14 -> 0 | Q21: =N21/52 -> 0 | R21: =O21/5 -> 0 | U21: =M21-C21 -> 0 | V21: =N21-D21 -> 0 | W21: =O21-E21 -> 0 | X21: =COUNTIF(U21:W21,">0") -> 0
F22: =C22/20 -> 0 | G22: =D22/52 -> 0 | H22: =E22/5 -> 0 | P22: =M22/14 -> 0 | Q22: =N22/52 -> 0 | R22: =O22/5 -> 0 | U22: =M22-C22 -> 0 | V22: =N22-D22 -> 0 | W22: =O22-E22 -> 0 | X22: =COUNTIF(U22:W22,">0") -> 0
F23: =C23/20 -> 0 | G23: =D23/52 -> 0 | H23: =E23/5 -> 0 | P23: =M23/14 -> 0 | Q23: =N23/52 -> 0 | R23: =O23/5 -> 0 | U23: =M23-C23 -> 0 | V23: =N23-D23 -> 0 | W23: =O23-E23 -> 0 | X23: =COUNTIF(U23:W23,">0") -> 0
F24: =C24/20 -> 0 | G24: =D24/52 -> 0 | H24: =E24/5 -> 0 | P24: =M24/14 -> 0 | Q24: =N24/52 -> 0 | R24: =O24/5 -> 0 | U24: =M24-C24 -> 0 | V24: =N24-D24 -> 0 | W24: =O24-E24 -> 0 | X24: =COUNTIF(U24:W24,">0") -> 0
F25: =C25/20 -> 0 | G25: =D25/52 -> 0 | H25: =E25/5 -> 0 | P25: =M25/14 -> 0 | Q25: =N25/52 -> 0 | R25: =O25/5 -> 0 | U25: =M25-C25 -> 0 | V25: =N25-D25 -> 0 | W25: =O25-E25 -> 0 | X25: =COUNTIF(U25:W25,">0") -> 0
F26: =C26/20 -> 0 | G26: =D26/52 -> 0 | H26: =E26/5 -> 0 | P26: =M26/14 -> 0 | Q26: =N26/52 -> 0 | R26: =O26/5 -> 0 | U26: =M26-C26 -> 0 | V26: =N26-D26 -> 0 | W26: =O26-E26 -> 0 | X26: =COUNTIF(U26:W26,">0") -> 0
F27: =C27/20 -> 0 | G27: =D27/52 -> 0 | H27: =E27/5 -> 0 | P27: =M27/14 -> 0 | Q27: =N27/52 -> 0 | R27: =O27/5 -> 0 | U27: =M27-C27 -> 0 | V27: =N27-D27 -> 0 | W27: =O27-E27 -> 0 | X27: =COUNTIF(U27:W27,">0") -> 0
F28: =C28/20 -> 0 | G28: =D28/52 -> 0 | H28: =E28/5 -> 0 | P28: =M28/14 -> 0 | Q28: =N28/52 -> 0 | R28: =O28/5 -> 0 | U28: =M28-C28 -> 0 | V28: =N28-D28 -> 0 | W28: =O28-E28 -> 0 | X28: =COUNTIF(U28:W28,">0") -> 0
F29: =C29/20 -> 0 | G29: =D29/52 -> 0 | H29: =E29/5 -> 0 | P29: =M29/14 -> 0 | Q29: =N29/52 -> 0 | R29: =O29/5 -> 0 | U29: =M29-C29 -> 0 | V29: =N29-D29 -> 0 | W29: =O29-E29 -> 0 | X29: =COUNTIF(U29:W29,">0") -> 0
F30: =C30/20 -> 0 | G30: =D30/52 -> 0 | H30: =E30/5 -> 0 | P30: =M30/14 -> 0 | Q30: =N30/52 -> 0 | R30: =O30/5 -> 0 | U30: =M30-C30 -> 0 | V30: =N30-D30 -> 0 | W30: =O30-E30 -> 0 | X30: =COUNTIF(U30:W30,">0") -> 0
F31: =C31/20 -> 0 | G31: =D31/52 -> 0 | H31: =E31/5 -> 0 | P31: =M31/14 -> 0 | Q31: =N31/52 -> 0 | R31: =O31/5 -> 0 | U31: =M31-C31 -> 0 | V31: =N31-D31 -> 0 | W31: =O31-E31 -> 0 | X31: =COUNTIF(U31:W31,">0") -> 0

Sheet Transitional
C1: 2023 Data | Y1: 2024 Data
C2: Raw Scores | O2: Percentage | W2: Focus areas | AA2: Raw Scores | AM2: Percentage | AU2: Focus areas | AW2: 2023 - 2024 Growth
C3: Average | AA3: Average | AW3: Average
A4: Student | B4: Teacher | C4: =AVERAGE(C7:C28) -> #DIV/0! | D4: =AVERAGE(D7:D28) -> #DIV/0! | E4: =AVERAGE(E7:E28) -> #DIV/0! | F4: =AVERAGE(F7:F28) -> #DIV/0! | G4: =AVERAGE(G7:G28) -> #DIV/0! | H4: =AVERAGE(H7:H28) -> #DIV/0! | I4: =AVERAGE(I7:I28) -> #DIV/0! | J4: =AVERAGE(J7:J28) -> #DIV/0! | ... N4: =AVERAGE(N7:N28) -> #DIV/0! | O4: =AVERAGE((O7:O29)) -> 0 | P4: =AVERAGE((P7:P29)) -> 0 | Q4: =AVERAGE((Q7:Q29)) -> 0 | R4: =AVERAGE((R7:R29)) -> 0 | S4: =AVERAGE((S7:S29)) -> 0 | T4: =AVERAGE((T7:T29)) -> 0 | U4: =AVERAGE((U7:U29)) -> 0 | V4: =AVERAGE((V7:V29)) -> 0 | AA4: =AVERAGE(AA7:AA28) -> #DIV/0! | AB4: =AVERAGE(AB7:AB28) -> #DIV/0! | AC4: =AVERAGE(AC7:AC28) -> #DIV/0! | AD4: =AVERAGE(AD7:AD28) -> #DIV/0! | AE4: =AVERAGE(AE7:AE28) -> #DIV/0! | AF4: =AVERAGE(AF7:AF28) -> #DIV/0! | AG4: =AVERAGE(AG7:AG28) -> #DIV/0! | AH4: =AVERAGE(AH7:AH28) -> #DIV/0! | ... AL4: =AVERAGE(AL7:AL28) -> #DIV/0! | AM4: =AVERAGE(AM7:AM29) -> 0 | AN4: =AVERAGE(AN7:AN29) -> 0 | AO4: =AVERAGE(AO7:AO29) -> 0 | AP4: =AVERAGE(AP7:AP29) -> 0 | AQ4: =AVERAGE(AQ7:AQ29) -> 0 | AR4: =AVERAGE(AR7:AR29) -> 0 | AS4: =AVERAGE(AS7:AS29) -> 0 | AT4: =AVERAGE(AT7:AT29) -> 0 | AW4: =AVERAGE(AW7:AW28) -> 0 | AX4: =AVERAGE(AX7:AX28) -> 0 | AY4: =AVERAGE(AY7:AY28) -> 0 | AZ4: =AVERAGE(AZ7:AZ28) -> 0 | BA4: =AVERAGE(BA7:BA28) -> 0 | BB4: =AVERAGE(BB7:BB28) -> 0 | BC4: =AVERAGE(BC7:BC28) -> 0 | BD4: =AVERAGE(BD7:BD28) -> 0 | ... BH4: =AVERAGE(BH7:BH28) -> 0
C5: Letter Sounds | D5: Concept of Word | E5: PA total | F5: Rhyme Detection | G5: Phoneme Matching | H5: Phoneme Awareness | I5: Word Recog Total | J5: Basal words | K5: Decodable words | L5: Comprehension | M5: Writing | N5: Total | O5: Letter Sounds | P5: Concept of Word | Q5: PA total | R5: Phoneme Awareness | S5: Word Recognition | T5: Comprehension | U5: Writing | V5: Total | W5: Focus #1 | X5: Focus #2 | Y5: Student | Z5: Teacher | AA5: Letter Sounds | AB5: Concept of Word | AC5: PA total | AD5: Rhyme Detection | AE5: Phoneme Matching | AF5: Phoneme Awareness | AG5: Word Recog Total | AH5: Basal words | AI5: Decodable words | AJ5: Comprehension | AK5: Writing | AL5: Total | AM5: Letter Sounds | AN5: Concept of Word | AO5: PA total | AP5: Phoneme Awareness | AQ5: Word Recognition | AR5: Comprehension | AS5: Writing | AT5: Total | AU5: Focus #1 | AV5: Focus #2 | AW5: Letter Sounds | AX5: Concept of Word | AY5: PA total | AZ5: Rhyme Detection | BA5: Phoneme Matching | BB5: Phoneme Awareness | BC5: Word Recog Total | BD5: Basal words | BE5: Decodable words | BF5: Comprehension | BG5: Writing | BH5: Total
O7: =C7/26 -> 0 | P7: =D7/16 -> 0 | Q7: =E7/20 -> 0 | R7: =H7/42 -> 0 | S7: =I7/20 -> 0 | T7: =L7/10 -> 0 | U7: =M7/8 -> 0 | V7: =N7/148 -> 0 | AM7: =AA7/26 -> 0 | AN7: =AB7/16 -> 0 | AO7: =AC7/20 -> 0 | AP7: =AF7/42 -> 0 | AQ7: =AG7/20 -> 0 | AR7: =AJ7/10 -> 0 | AS7: =AK7/8 -> 0 | AT7: =AL7/148 -> 0 | AW7: =AA7-C7 -> 0 | AX7: =AB7-D7 -> 0 | AY7: =AC7-E7 -> 0 | AZ7: =AD7-F7 -> 0 | BA7: =AE7-G7 -> 0 | BB7: =AF7-H7 -> 0 | BC7: =AG7-I7 -> 0 | BD7: =AH7-J7 -> 0 | ... BH7: =AL7-N7 -> 0
O8: =C8/26 -> 0 | P8: =D8/16 -> 0 | Q8: =E8/20 -> 0 | R8: =H8/42 -> 0 | S8: =I8/20 -> 0 | T8: =L8/10 -> 0 | U8: =M8/8 -> 0 | V8: =N8/148 -> 0 | AM8: =AA8/26 -> 0 | AN8: =AB8/16 -> 0 | AO8: =AC8/20 -> 0 | AP8: =AF8/42 -> 0 | AQ8: =AG8/20 -> 0 | AR8: =AJ8/10 -> 0 | AS8: =AK8/8 -> 0 | AT8: =AL8/148 -> 0 | AW8: =AA8-C8 -> 0 | AX8: =AB8-D8 -> 0 | AY8: =AC8-E8 -> 0 | AZ8: =AD8-F8 -> 0 | BA8: =AE8-G8 -> 0 | BB8: =AF8-H8 -> 0 | BC8: =AG8-I8 -> 0 | BD8: =AH8-J8 -> 0 | ... BH8: =AL8-N8 -> 0
O9: =C9/26 -> 0 | P9: =D9/16 -> 0 | Q9: =E9/20 -> 0 | R9: =H9/42 -> 0 | S9: =I9/20 -> 0 | T9: =L9/10 -> 0 | U9: =M9/8 -> 0 | V9: =N9/148 -> 0 | AM9: =AA9/26 -> 0 | AN9: =AB9/16 -> 0 | AO9: =AC9/20 -> 0 | AP9: =AF9/42 -> 0 | AQ9: =AG9/20 -> 0 | AR9: =AJ9/10 -> 0 | AS9: =AK9/8 -> 0 | AT9: =AL9/148 -> 0 | AW9: =AA9-C9 -> 0 | AX9: =AB9-D9 -> 0 | AY9: =AC9-E9 -> 0 | AZ9: =AD9-F9 -> 0 | BA9: =AE9-G9 -> 0 | BB9: =AF9-H9 -> 0 | BC9: =AG9-I9 -> 0 | BD9: =AH9-J9 -> 0 | ... BH9: =AL9-N9 -> 0
O10: =C10/26 -> 0 | P10: =D10/16 -> 0 | Q10: =E10/20 -> 0 | R10: =H10/42 -> 0 | S10: =I10/20 -> 0 | T10: =L10/10 -> 0 | U10: =M10/8 -> 0 | V10: =N10/148 -> 0 | AM10: =AA10/26 -> 0 | AN10: =AB10/16 -> 0 | AO10: =AC10/20 -> 0 | AP10: =AF10/42 -> 0 | AQ10: =AG10/20 -> 0 | AR10: =AJ10/10 -> 0 | AS10: =AK10/8 -> 0 | AT10: =AL10/148 -> 0 | AW10: =AA10-C10 -> 0 | AX10: =AB10-D10 -> 0 | AY10: =AC10-E10 -> 0 | AZ10: =AD10-F10 -> 0 | BA10: =AE10-G10 -> 0 | BB10: =AF10-H10 -> 0 | BC10: =AG10-I10 -> 0 | BD10: =AH10-J10 -> 0 | ... BH10: =AL10-N10 -> 0
O11: =C11/26 -> 0 | P11: =D11/16 -> 0 | Q11: =E11/20 -> 0 | R11: =H11/42 -> 0 | S11: =I11/20 -> 0 | T11: =L11/10 -> 0 | U11: =M11/8 -> 0 | V11: =N11/148 -> 0 | AM11: =AA11/26 -> 0 | AN11: =AB11/16 -> 0 | AO11: =AC11/20 -> 0 | AP11: =AF11/42 -> 0 | AQ11: =AG11/20 -> 0 | AR11: =AJ11/10 -> 0 | AS11: =AK11/8 -> 0 | AT11: =AL11/148 -> 0 | AW11: =AA11-C11 -> 0 | AX11: =AB11-D11 -> 0 | AY11: =AC11-E11 -> 0 | AZ11: =AD11-F11 -> 0 | BA11: =AE11-G11 -> 0 | BB11: =AF11-H11 -> 0 | BC11: =AG11-I11 -> 0 | BD11: =AH11-J11 -> 0 | ... BH11: =AL11-N11 -> 0
O12: =C12/26 -> 0 | P12: =D12/16 -> 0 | Q12: =E12/20 -> 0 | R12: =H12/42 -> 0 | S12: =I12/20 -> 0 | T12: =L12/10 -> 0 | U12: =M12/8 -> 0 | V12: =N12/148 -> 0 | AM12: =AA12/26 -> 0 | AN12: =AB12/16 -> 0 | AO12: =AC12/20 -> 0 | AP12: =AF12/42 -> 0 | AQ12: =AG12/20 -> 0 | AR12: =AJ12/10 -> 0 | AS12: =AK12/8 -> 0 | AT12: =AL12/148 -> 0 | AW12: =AA12-C12 -> 0 | AX12: =AB12-D12 -> 0 | AY12: =AC12-E12 -> 0 | AZ12: =AD12-F12 -> 0 | BA12: =AE12-G12 -> 0 | BB12: =AF12-H12 -> 0 | BC12: =AG12-I12 -> 0 | BD12: =AH12-J12 -> 0 | ... BH12: =AL12-N12 -> 0
O13: =C13/26 -> 0 | P13: =D13/16 -> 0 | Q13: =E13/20 -> 0 | R13: =H13/42 -> 0 | S13: =I13/20 -> 0 | T13: =L13/10 -> 0 | U13: =M13/8 -> 0 | V13: =N13/148 -> 0 | AM13: =AA13/26 -> 0 | AN13: =AB13/16 -> 0 | AO13: =AC13/20 -> 0 | AP13: =AF13/42 -> 0 | AQ13: =AG13/20 -> 0 | AR13: =AJ13/10 -> 0 | AS13: =AK13/8 -> 0 | AT13: =AL13/148 -> 0 | AW13: =AA13-C13 -> 0 | AX13: =AB13-D13 -> 0 | AY13: =AC13-E13 -> 0 | AZ13: =AD13-F13 -> 0 | BA13: =AE13-G13 -> 0 | BB13: =AF13-H13 -> 0 | BC13: =AG13-I13 -> 0 | BD13: =AH13-J13 -> 0 | ... BH13: =AL13-N13 -> 0
O14: =C14/26 -> 0 | P14: =D14/16 -> 0 | Q14: =E14/20 -> 0 | R14: =H14/42 -> 0 | S14: =I14/20 -> 0 | T14: =L14/10 -> 0 | U14: =M14/8 -> 0 | V14: =N14/148 -> 0 | AM14: =AA14/26 -> 0 | AN14: =AB14/16 -> 0 | AO14: =AC14/20 -> 0 | AP14: =AF14/42 -> 0 | AQ14: =AG14/20 -> 0 | AR14: =AJ14/10 -> 0 | AS14: =AK14/8 -> 0 | AT14: =AL14/148 -> 0 | AW14: =AA14-C14 -> 0 | AX14: =AB14-D14 -> 0 | AY14: =AC14-E14 -> 0 | AZ14: =AD14-F14 -> 0 | BA14: =AE14-G14 -> 0 | BB14: =AF14-H14 -> 0 | BC14: =AG14-I14 -> 0 | BD14: =AH14-J14 -> 0 | ... BH14: =AL14-N14 -> 0
O15: =C15/26 -> 0 | P15: =D15/16 -> 0 | Q15: =E15/20 -> 0 | R15: =H15/42 -> 0 | S15: =I15/20 -> 0 | T15: =L15/10 -> 0 | U15: =M15/8 -> 0 | V15: =N15/148 -> 0 | AM15: =AA15/26 -> 0 | AN15: =AB15/16 -> 0 | AO15: =AC15/20 -> 0 | AP15: =AF15/42 -> 0 | AQ15: =AG15/20 -> 0 | AR15: =AJ15/10 -> 0 | AS15: =AK15/8 -> 0 | AT15: =AL15/148 -> 0 | AW15: =AA15-C15 -> 0 | AX15: =AB15-D15 -> 0 | AY15: =AC15-E15 -> 0 | AZ15: =AD15-F15 -> 0 | BA15: =AE15-G15 -> 0 | BB15: =AF15-H15 -> 0 | BC15: =AG15-I15 -> 0 | BD15: =AH15-J15 -> 0 | ... BH15: =AL15-N15 -> 0
O16: =C16/26 -> 0 | P16: =D16/16 -> 0 | Q16: =E16/20 -> 0 | R16: =H16/42 -> 0 | S16: =I16/20 -> 0 | T16: =L16/10 -> 0 | U16: =M16/8 -> 0 | V16: =N16/148 -> 0 | AM16: =AA16/26 -> 0 | AN16: =AB16/16 -> 0 | AO16: =AC16/20 -> 0 | AP16: =AF16/42 -> 0 | AQ16: =AG16/20 -> 0 | AR16: =AJ16/10 -> 0 | AS16: =AK16/8 -> 0 | AT16: =AL16/148 -> 0 | AW16: =AA16-C16 -> 0 | AX16: =AB16-D16 -> 0 | AY16: =AC16-E16 -> 0 | AZ16: =AD16-F16 -> 0 | BA16: =AE16-G16 -> 0 | BB16: =AF16-H16 -> 0 | BC16: =AG16-I16 -> 0 | BD16: =AH16-J16 -> 0 | ... BH16: =AL16-N16 -> 0
O17: =C17/26 -> 0 | P17: =D17/16 -> 0 | Q17: =E17/20 -> 0 | R17: =H17/42 -> 0 | S17: =I17/20 -> 0 | T17: =L17/10 -> 0 | U17: =M17/8 -> 0 | V17: =N17/148 -> 0 | AM17: =AA17/26 -> 0 | AN17: =AB17/16 -> 0 | AO17: =AC17/20 -> 0 | AP17: =AF17/42 -> 0 | AQ17: =AG17/20 -> 0 | AR17: =AJ17/10 -> 0 | AS17: =AK17/8 -> 0 | AT17: =AL17/148 -> 0 | AW17: =AA17-C17 -> 0 | AX17: =AB17-D17 -> 0 | AY17: =AC17-E17 -> 0 | AZ17: =AD17-F17 -> 0 | BA17: =AE17-G17 -> 0 | BB17: =AF17-H17 -> 0 | BC17: =AG17-I17 -> 0 | BD17: =AH17-J17 -> 0 | ... BH17: =AL17-N17 -> 0
O18: =C18/26 -> 0 | P18: =D18/16 -> 0 | Q18: =E18/20 -> 0 | R18: =H18/42 -> 0 | S18: =I18/20 -> 0 | T18: =L18/10 -> 0 | U18: =M18/8 -> 0 | V18: =N18/148 -> 0 | AM18: =AA18/26 -> 0 | AN18: =AB18/16 -> 0 | AO18: =AC18/20 -> 0 | AP18: =AF18/42 -> 0 | AQ18: =AG18/20 -> 0 | AR18: =AJ18/10 -> 0 | AS18: =AK18/8 -> 0 | AT18: =AL18/148 -> 0 | AW18: =AA18-C18 -> 0 | AX18: =AB18-D18 -> 0 | AY18: =AC18-E18 -> 0 | AZ18: =AD18-F18 -> 0 | BA18: =AE18-G18 -> 0 | BB18: =AF18-H18 -> 0 | BC18: =AG18-I18 -> 0 | BD18: =AH18-J18 -> 0 | ... BH18: =AL18-N18 -> 0
... O29: =C29/26 -> 0 | P29: =D29/16 -> 0 | Q29: =E29/20 -> 0 | R29: =H29/42 -> 0 | S29: =I29/20 -> 0 | T29: =L29/10 -> 0 | U29: =M29/8 -> 0 | V29: =N29/148 -> 0 | AM29: =AA29/26 -> 0 | AN29: =AB29/16 -> 0 | AO29: =AC29/20 -> 0 | AP29: =AF29/42 -> 0 | AQ29: =AG29/20 -> 0 | AR29: =AJ29/10 -> 0 | AS29: =AK29/8 -> 0 | AT29: =AL29/148 -> 0 | AW29: =AA29-C29 -> 0 | AX29: =AB29-D29 -> 0 | AY29: =AC29-E29 -> 0 | AZ29: =AD29-F29 -> 0 | BA29: =AE29-G29 -> 0 | BB29: =AF29-H29 -> 0 | BC29: =AG29-I29 -> 0 | BD29: =AH29-J29 -> 0 | ... BH29: =AL29-N29 -> 0

Sheet Conventional
B1: 2023 Data | J1: 2024 Data
C2: Raw Scores | G2: Focus Area | K2: Raw Scores | O2: Focus Area | R2: Growth 2023 - 2024
A3: Student | B3: Student | C3: Word ID | D3: Reading Comp | E3: Listening Comp | F3: Writing | G3: Focus | H3: Level | I3: Focus 2 | J3: Student | K3: Word ID | L3: Reading Comp | M3: Listening Comp | N3: Writing | O3: Focus | P3: Level | Q3: Focus 2 | R3: Word ID | S3: Reading Comp | T3: Listening Comp
P5: =MIN(K5:M5) -> 0 | R5: =K5-C5 -> 0 | S5: =L5-D5 -> 0 | T5: =M5-E5 -> 0
P6: =MIN(K6:M6) -> 0 | R6: =K6-C6 -> 0 | S6: =L6-D6 -> 0 | T6: =M6-E6 -> 0

Sheet Numbers
A1: Numbers | B1: Emergent | C1: Transitional | D1: Conventional
A2: 2017 | B2: 36 | C2: 31 | D2: 2 | E2: =SUM(B2:D2) -> 69
A3: 2018 | B3: 37 | C3: 25 | D3: 8 | E3: =B3+C3+D3 -> 70
A4: 2019 | B4: 41 | C4: 23 | D4: 6 | E4: =SUM(B4:D4) -> 70
