Workbook

Sheet LIST DATA
A1: Literacy Level | B1: Focus - Emergent | C1: Focus - Transitional | D1: Focus - Conventional | E1: Focus - Bridge | F1: Grade Equivalency | G1: Voice | H1: Pencil
A2: Bridge | B2: Shared Reading | C2: Letter Sounds | D2: Working with Words | E2: All | F2: 0.25 | G2: NA | H2: NA
A3: Emergent | B3: Working with Letters/Sounds | C3: Self-Selected Reading | D3: Comprehension | F3: 0.5 | G3: Speech | H3: Pens and pencils with handwriting
A4: Transitional | B4: Writing | C4: Working with Words - Phonics | D4: Self-Selected Reading | F4: 1 | G4: PODD 20 Per Page Expanded Functions | H4: Standard QWERTY keyboard
A5: Conventional | B5: All | C5: Working with Words - Words | D5: Writing | F5: 1.5 | G5: PODD 16 Per Page Expanded Functions | H5: Big keys keyboard
C6: Onset Rime | F6: 2 | G6: PODD 12 Per Page Early Functions | H6: Large key label keyboard
C7: Comprehension | F7: 2.5 | G7: PODD 12 Per Page Expanded Functions | H7: QWERTY low tech
C8: Writing | F8: 3 | G8: PODD 9 Per Page Expanded Functions | H8: Superkeys low tech
C9: Working with Words | F9: 3.5 | G9: PODD 9 Per Page Early Functions | H9: Flip Chart Blue and white squares with menu UC
F10: 4 | G10: PODD 36 Key Word | H10: Flip Chart Blue and white squares with wings UC
F11: 4.5 | G11: PODD 40 Key Word | H11: Flip Chart Blue and white squares with menu LC
F12: 5 | G12: PODD 48 Expanded Key Word | H12: Flip Chart Blue and white squares with wings LC
F13: 5.5 | G13: PODD 70 Expanded Key Word | H13: Flip Chart Four per page with gaps LC
F14: 6 | G14: PODD 90+ Complex Syntax | H14: Flip Chart Four square LC & UC
F15: 6.5 | G15: PODD 100+ Complex Syntax | H15: Flip Chart 3 letter high contrast UC yellow
F16: 7 | G16: PODD 9 Eye Gaze Early Functions | H16: Flip Chart 3 letter high contrast UC white
F17: 7.5 | G17: PODD 9 Eye Gaze Expanded Functions | H17: Flip Chart 3 letter high contrast UC green
F18: 8 | G18: PODD 36 PAVS Key Word | H18: Flip Chart 3 letter high contrast UC pink
F19: 8.5 | G19: PODD 40 PAVS Key Word | H19: Flip Chart 3 letter high contrast LC pink
F20: 9 | G20: PODD 48 PAVS Key Word | H20: Flip Chart Blue and white squares out of alphabetic order with menu LC
F21: 9.5 | G21: PODD 64 PAVS Expanded Key Word | H21: Flip Chart Blue and white squares out of alphabetic order with wings LC
... F27: 0 | G27: PODD 12 PAVS Early Functions | H27: Flip Chart Glow letters PAS LC
A28: Grade | B28: Class | C28: Teacher | G28: PODD 12 PAVS Expanded Functions | H28: Flip Chart Glow letters PAS UC
A29: F | B29: 1 | C29: Teacher 1 | G29: PODD 9 PAVS Expanded Functions | H29: Flip Chart High contrast PAS LC yellow
A30: 1 | B30: 2 | C30: Teacher 2 | G30: PODD 9 PAVS Early Functions | H30: Flip Chart High contrast PAS UC yellow
A31: 2 | B31: 3 | C31: Teacher 3 | G31: PODD 20 PAVS Expanded Functions | H31: Flip Chart High contrast PAS LC green
A32: 3 | B32: 4 | C32: Teacher 4 | G32: PODD 40 Colour Coded Key Word | H32: Flip Chart High contrast PAS UC green
A33: 4 | B33: 5 | C33: Teacher 5 | G33: PODD 48 Colour Coded Key Word | H33: Flip Chart High contrast PAS LC Pink
A34: 5 | B34: 6 | C34: Teacher 6 | G34: PODD 64 Colour Coded Expanded Key Word | H34: Flip Chart High contrast PAS UC pink
A35: 6 | B35: 7 | C35: Teacher 7 | G35: PODD 80 Coded Expanded Key Word | H35: Flip Chart 3 letter high contrast PAS UC green
A36: 7 | B36: 8 | C36: Teacher 8 | G36: PODD 100+ Coded Complex Syntax | H36: Flip Chart 3 letter high contrast PAS UC pink
A37: 8 | B37: 9 | C37: Teacher 9 | G37: Proloquo2Go Crescendo 7 x 11 | H37: Flip Chart 3 letter high contrast PAS UC yellow
A38: 9 | C38: Teacher 10 | G38: Proloquo2Go Crescendo other | H38: Other
A39: 10 | C39: Teacher 11 | G39: The Grid PODD 60 | H39: Word Wizard app on iPad
A40: 11 | C40: Teacher 12 | G40: The Grid PODD 15 | H40: Proloquo2Go QWERTY keyboard, no word prediction
A41: 12 | C41: Teacher 13 | G41: TD Snap PODD 60 | H41: Proloquo2Go QWERTY keyboard, word prediction
C42: Teacher 14 | G42: TD Snap PODD 15 | H42: iPad QWERTY keyboard
C43: Teacher 15 | G43: Other | H43: Magnetic Letter app on iPad
C44: Teacher 16 | G44: Proloquo2Go Low Tech | H44: Flip Chart on Proloquo2Go
G45: SimPODD 9 Cell Early Functions | H45: iPad QWERTY keyboard with Co:Writer
...

Sheet VOICE-PENCIL
A1: VOICE | B1: VOICE IMAGE | C1: PENCIL | D1: PENCIL IMAGE
A3: Speech | C3: Pens and pencils with handwriting
A4: PODD 9 Per Page Early Functions | C4: Standard QWERTY keyboard
A5: PODD 9 Per Page Expanded Functions | C5: Big keys keyboard
A6: PODD 12 Per Page Early Functions | C6: Large key label keyboard
A7: PODD 12 Per Page Expanded Functions | C7: QWERTY low tech
A8: PODD 16 Per Page Expanded Functions | C8: Superkeys low tech
A9: PODD 20 Per Page Expanded Functions | C9: Blue and white squares with menu UC
A10: PODD 36 Key Word | C10: Blue and white squares with wings UC
A11: PODD 40 Key Word | C11: Blue and white squares with menu LC
A12: PODD 48 Expanded Key Word | C12: Blue and white squares with wings LC
A13: PODD 70 Expanded Key Word | C13: Four per page with gaps LC
A14: PODD 90+ Complex Syntax | C14: Four square LC & UC
... A60: Key Word Sign | C60: Sensory pencil - custom
C61: Sensory pencil - alphabet beads
C62: Sensory pencil - green stampers
C63: Sensory pencil - card letters
C64: Alphabet page in PODD
C65: Eye gaze page set
C66: Superkeys on iPad

Sheet WHOLE SCHOOL CAPTURE 
A1: LITERACY LEVELS | B1: 2023
A2: Emergent | B2: Transitional | C2: Conventional | D2: Bridge
A3: =COUNTIF('STUDENT DATA SHEET'!$C$1:$C$93,"*Emergent*") -> 0 | B3: =COUNTIF('STUDENT DATA SHEET'!$C$1:$C$93,"*Transitional*") -> 0 | C3: =COUNTIF('STUDENT DATA SHEET'!$C$1:$C$93,"*Conventional*") -> 0 | D3: =COUNTIF('STUDENT DATA SHEET'!$C$1:$C$93,"*Bridge*") -> 0
A24: STUDENT AVERAGES | B24: 2023
A25: EMERGENT | B25: SCORE | C25: PERCENTAGE | D25: TRANSITIONAL | E25: SCORE | F25: PERCENTAGE | G25: CONVENTIONAL | H25: SCORE | I25: BRIDGE | J25: SCORE | K25: PERCENTAGE
A26: Concepts About Print (14) | B26: =AVERAGEIF('STUDENT DATA SHEET'!C5:C93,"Emergent",'STUDENT DATA SHEET'!AO5:AO93) -> #DIV/0! | C26: =AVERAGEIF('STUDENT DATA SHEET'!C5:C93,"Emergent",'STUDENT DATA SHEET'!AP5:AP93) -> #DIV/0! | D26: Letter Sounds (26) | E26: =AVERAGE('STUDENT DATA SHEET'!AW5:AW93) -> #DIV/0! | F26: =AVERAGEIF('STUDENT DATA SHEET'!C5:C93,"Transitional",'STUDENT DATA SHEET'!AX5:AX93) -> #DIV/0! | G26: Word Identification (Grade level equivalency) | H26: =AVERAGE('STUDENT DATA SHEET'!BQ5:BQ93) -> #DIV/0! | I26: Physically handle/ interact with books (8) | J26: =AVERAGE('STUDENT DATA SHEET'!J5:J93) -> #DIV/0! | K26: =AVERAGEIF('STUDENT DATA SHEET'!C5:C93,"Bridge",'STUDENT DATA SHEET'!K5:K93) -> #DIV/0!
A27: Letter Identification (52) | B27: =AVERAGEIF('STUDENT DATA SHEET'!C5:C93,"Emergent",'STUDENT DATA SHEET'!AQ5:AQ93) -> #DIV/0! | C27: =AVERAGEIF('STUDENT DATA SHEET'!C5:C93,"Emergent",'STUDENT DATA SHEET'!AR5:AR93) -> #DIV/0! | D27: Concept of Word (16) | E27: =AVERAGE('STUDENT DATA SHEET'!AY5:AY93) -> #DIV/0! | F27: =AVERAGEIF('STUDENT DATA SHEET'!C5:C93,"Transitional",'STUDENT DATA SHEET'!AZ5:AZ93) -> #DIV/0! | G27: Reading Comprehension (Grade level equivalency) | H27: =AVERAGE('STUDENT DATA SHEET'!BR5:BR93) -> #DIV/0! | I27: Interact with Print (8) | J27: =AVERAGE('STUDENT DATA SHEET'!L5:L93) -> #DIV/0! | K27: =AVERAGEIF('STUDENT DATA SHEET'!C5:C93,"Bridge",'STUDENT DATA SHEET'!M5:M93) -> #DIV/0!
A28: Developmental Writing (1 - 14) | B28: =AVERAGEIF('STUDENT DATA SHEET'!C5:C93,"Emergent",'STUDENT DATA SHEET'!AS5:AS93) -> #DIV/0! | C28: =AVERAGEIF('STUDENT DATA SHEET'!C5:C93,"Emergent",'STUDENT DATA SHEET'!AT5:AT93) -> #DIV/0! | D28: Rhyme Identity (10) | E28: =AVERAGE('STUDENT DATA SHEET'!BA5:BA93) -> #DIV/0! | F28: =AVERAGEIF('STUDENT DATA SHEET'!C5:C93,"Transitional",'STUDENT DATA SHEET'!BB5:BB93) -> #DIV/0! | G28: Listening Comprehension (Grade level equivalency) | H28: =AVERAGE('STUDENT DATA SHEET'!BS5:BS93) -> #DIV/0! | I28: Direct/Take Ownership of Shared Literacy Experiences (8) | J28: =AVERAGE('STUDENT DATA SHEET'!N5:N93) -> #DIV/0! | K28: =AVERAGEIF('STUDENT DATA SHEET'!C5:C1593,"Bridge",'STUDENT DATA SHEET'!O5:O93) -> #DIV/0!
D29: Phoneme Matching (10) | E29: =AVERAGE('STUDENT DATA SHEET'!BC5:BC93) -> #DIV/0! | F29: =AVERAGEIF('STUDENT DATA SHEET'!C5:C93,"Transitional",'STUDENT DATA SHEET'!BD5:BD93) -> #DIV/0! | G29: Developmental Writing (1 - 14) | H29: =AVERAGE('STUDENT DATA SHEET'!BT5:BT93) -> #DIV/0! | I29: Interact with Symbols During Shared Reading (8) | J29: =AVERAGE('STUDENT DATA SHEET'!P5:P93) -> #DIV/0! | K29: =AVERAGEIF('STUDENT DATA SHEET'!C5:C93,"Bridge",'STUDENT DATA SHEET'!Q5:Q93) -> #DIV/0!
D30: Phoneme Awareness (42) | E30: =AVERAGE('STUDENT DATA SHEET'!BE5:BE93) -> #DIV/0! | F30: =AVERAGEIF('STUDENT DATA SHEET'!C5:C93,"Transitional",'STUDENT DATA SHEET'!BF5:BF93) -> #DIV/0! | I30: Engage in the Act of Reading (8) | J30: =AVERAGE('STUDENT DATA SHEET'!R5:R93) -> #DIV/0! | K30: =AVERAGEIF('STUDENT DATA SHEET'!C5:C93,"Bridge",'STUDENT DATA SHEET'!S5:S93) -> #DIV/0!
D31: Basal Words (10) | E31: =AVERAGE('STUDENT DATA SHEET'!BG5:BG93) -> #DIV/0! | F31: =AVERAGEIF('STUDENT DATA SHEET'!C5:C93,"Transitional",'STUDENT DATA SHEET'!BH5:BH93) -> #DIV/0! | I31: Draw/Write Motor Item (8) | J31: =AVERAGE('STUDENT DATA SHEET'!T5:T93) -> #DIV/0! | K31: =AVERAGEIF('STUDENT DATA SHEET'!C5:C93,"Bridge",'STUDENT DATA SHEET'!U5:U93) -> #DIV/0!
D32: Decodable Words (10) | E32: =AVERAGE('STUDENT DATA SHEET'!BI5:BI93) -> #DIV/0! | F32: =AVERAGEIF('STUDENT DATA SHEET'!C5:C93,"Transitional",'STUDENT DATA SHEET'!BJ5:BJ93) -> #DIV/0! | I32: Use Print: Cognitive/ Linguistic Item (8) | J32: =AVERAGE('STUDENT DATA SHEET'!V5:V93) -> #DIV/0! | K32: =AVERAGEIF('STUDENT DATA SHEET'!C5:C93,"Bridge",'STUDENT DATA SHEET'!W5:W93) -> #DIV/0!
D33: Comprehension (10) | E33: =AVERAGE('STUDENT DATA SHEET'!BK5:BK93) -> #DIV/0! | F33: =AVERAGEIF('STUDENT DATA SHEET'!C5:C93,"Transitional",'STUDENT DATA SHEET'!BL5:BL93) -> #DIV/0! | I33: Use Symbolic Language (AAC) to Generate Print (8) | J33: =AVERAGE('STUDENT DATA SHEET'!X5:X93) -> #DIV/0! | K33: =AVERAGEIF('STUDENT DATA SHEET'!C5:C93,"Bridge",'STUDENT DATA SHEET'!Y5:Y93) -> #DIV/0!
D34: Developmental Writing (1 - 14) | E34: =AVERAGE('STUDENT DATA SHEET'!BM5:BM93) -> #DIV/0! | F34: =AVERAGEIF('STUDENT DATA SHEET'!C5:C93,"Transitional",'STUDENT DATA SHEET'!BN5:BN93) -> #DIV/0! | I34: Write Name (8) | J34: =AVERAGE('STUDENT DATA SHEET'!Z5:Z93) -> #DIV/0! | K34: =AVERAGEIF('STUDENT DATA SHEET'!C5:C93,"Bridge",'STUDENT DATA SHEET'!AA5:AA93) -> #DIV/0!
I35: Interact with and Use Letters of the Alphabet (8) | J35: =AVERAGE('STUDENT DATA SHEET'!AB5:AB93) -> #DIV/0! | K35: =AVERAGEIF('STUDENT DATA SHEET'!C5:C93,"Bridge",'STUDENT DATA SHEET'!AC5:AC93) -> #DIV/0!
I36: Demonstrate Phonological Awareness (8) | J36: =AVERAGE('STUDENT DATA SHEET'!AD5:AD93) -> #DIV/0! | K36: =AVERAGEIF('STUDENT DATA SHEET'!C5:C93,"Bridge",'STUDENT DATA SHEET'!AE5:AE93) -> #DIV/0!
I37: Demonstrate Phonemic Awareness (8) | J37: =AVERAGE('STUDENT DATA SHEET'!AF5:AF93) -> #DIV/0! | K37: =AVERAGEIF('STUDENT DATA SHEET'!C5:C93,"Bridge",'STUDENT DATA SHEET'!AG5:AG93) -> #DIV/0!
I38: Use Oral Language/AAC During Literacy Activities (8) | J38: =AVERAGE('STUDENT DATA SHEET'!AH5:AH93) -> #DIV/0! | K38: =AVERAGEIF('STUDENT DATA SHEET'!C5:C93,"Bridge",'STUDENT DATA SHEET'!AI5:AI93) -> #DIV/0!
I39: Engage in Story Telling/ Re-telling (8) | J39: =AVERAGE('STUDENT DATA SHEET'!AJ5:AJ93) -> #DIV/0! | K39: =AVERAGEIF('STUDENT DATA SHEET'!C5:C93,"Bridge",'STUDENT DATA SHEET'!AK5:AK93) -> #DIV/0!
I40: Developmental Writing (1 - 14) | J40: =AVERAGE('STUDENT DATA SHEET'!AL5:AL93) -> #DIV/0! | K40: =AVERAGEIF('STUDENT DATA SHEET'!C5:C93,"Bridge",'STUDENT DATA SHEET'!AM5:AM93) -> #DIV/0!
I41: Concepts About Print (Emergent - 14) | J41: =AVERAGEIF('STUDENT DATA SHEET'!C5:C93,"Bridge",'STUDENT DATA SHEET'!AO5:AO93) -> #DIV/0! | K41: =AVERAGEIF('STUDENT DATA SHEET'!C5:C93,"Bridge",'STUDENT DATA SHEET'!AP5:AP93) -> #DIV/0!
I42: Letter Identification (Emergent - 52) | J42: =AVERAGEIF('STUDENT DATA SHEET'!C5:C93,"Bridge",'STUDENT DATA SHEET'!AQ5:AQ93) -> #DIV/0! | K42: =AVERAGEIF('STUDENT DATA SHEET'!C5:C93,"Bridge",'STUDENT DATA SHEET'!AR5:AR93) -> #DIV/0!
I43: Developmental Writing (Emergent - 1 - 14) | J43: =AVERAGEIF('STUDENT DATA SHEET'!C5:C93,"Bridge",'STUDENT DATA SHEET'!AS5:AS93) -> #DIV/0! | K43: =AVERAGEIF('STUDENT DATA SHEET'!C5:C93,"Bridge",'STUDENT DATA SHEET'!AT5:AT93) -> #DIV/0!
A46: FOCUS AREAS | B46: 2020
A47: Emergent Focus Area #1 | B47: COUNT | C47: PERCENTAGE | D47: Emergent Focus Area #2 | E47: COUNT | F47: PERCENTAGE
A48: Shared Reading | B48: =COUNTIFS('STUDENT DATA SHEET'!C5:C93,"=Emergent",'STUDENT DATA SHEET'!AU5:AU93,"=Shared Reading") -> 0 | C48: =B48/A3 -> #DIV/0! | D48: Shared Reading | E48: =COUNTIFS('STUDENT DATA SHEET'!C5:C93,"=Emergent",'STUDENT DATA SHEET'!AV5:AV93,"=Shared Reading") -> 0 | F48: =E48/A3 -> #DIV/0!
A49: Working with Letters/Sounds | B49: =COUNTIFS('STUDENT DATA SHEET'!C5:C93,"=Emergent",'STUDENT DATA SHEET'!AU5:AU93,"=Working With Letters/Sounds") -> 0 | C49: =B49/A3 -> #DIV/0! | D49: Working with Letters/Sounds | E49: =COUNTIFS('STUDENT DATA SHEET'!C5:C93,"=Emergent",'STUDENT DATA SHEET'!AV5:AV93,"=Working with Letters/Sounds") -> 0 | F49: =E49/A3 -> #DIV/0!
A50: Writing | B50: =COUNTIFS('STUDENT DATA SHEET'!C5:C93,"=Emergent",'STUDENT DATA SHEET'!AU5:AU93,"=Writing") -> 0 | C50: =B50/A3 -> #DIV/0! | D50: Writing | E50: =COUNTIFS('STUDENT DATA SHEET'!C5:C93,"=Emergent",'STUDENT DATA SHEET'!AV5:AV93,"=Writing") -> 0 | F50: =E50/A3 -> #DIV/0!
A51: All | B51: =COUNTIFS('STUDENT DATA SHEET'!C5:C93,"=Emergent",'STUDENT DATA SHEET'!AU5:AU93,"=All") -> 0 | C51: =B51/A3 -> #DIV/0!
A53: Transitional Focus Area # 1 | B53: COUNT | C53: PERCENTAGE | D53: Transitional Focus Area # 2 | E53: COUNT | F53: PERCENTAGE
A54: Letter Sounds | B54: =COUNTIFS('STUDENT DATA SHEET'!C5:C93,"=Transitional",'STUDENT DATA SHEET'!BO5:BO93,"=Letter Sounds") -> 0 | C54: =B54/B3 -> #DIV/0! | D54: Letter Sounds | E54: =COUNTIFS('STUDENT DATA SHEET'!C5:C93,"=Transitional",'STUDENT DATA SHEET'!BP5:BP93,"=Letter Sounds") -> 0 | F54: =E54/B3 -> #DIV/0!
A55: Self-Selected Reading | B55: =COUNTIFS('STUDENT DATA SHEET'!C5:C93,"=Transitional",'STUDENT DATA SHEET'!BO5:BO93,"=Self-Selected Reading") -> 0 | C55: =B55/B3 -> #DIV/0! | D55: Self-Selected Reading | E55: =COUNTIFS('STUDENT DATA SHEET'!C5:C93,"=Transitional",'STUDENT DATA SHEET'!BP5:BP93,"=Self-Selected Reading") -> 0 | F55: =E55/B3 -> #DIV/0!
A56: Working with Words - Phonics | B56: =COUNTIFS('STUDENT DATA SHEET'!C5:C93,"=Transitional",'STUDENT DATA SHEET'!BO5:BO93,"=Working with Words - Phonics") -> 0 | C56: =B56/B3 -> #DIV/0! | D56: Working with Words - Phonics | E56: =COUNTIFS('STUDENT DATA SHEET'!C5:C93,"=Transitional",'STUDENT DATA SHEET'!BP5:BP93,"=Working with Words - Phonics") -> 0 | F56: =E56/B3 -> #DIV/0!
A57: Working with Words - Words | B57: =COUNTIFS('STUDENT DATA SHEET'!C5:C93,"=Transitional",'STUDENT DATA SHEET'!BO5:BO93,"=Working with Words - Words") -> 0 | C57: =B57/B3 -> #DIV/0! | D57: Working with Words - Words | E57: =COUNTIFS('STUDENT DATA SHEET'!C5:C93,"=Transitional",'STUDENT DATA SHEET'!BP5:BP93,"=Working with Words - Words") -> 0 | F57: =E57/B3 -> #DIV/0!
A58: Onset Rime | B58: =COUNTIFS('STUDENT DATA SHEET'!C5:C93,"=Transitional",'STUDENT DATA SHEET'!BO5:BO93,"=Onset Rime") -> 0 | C58: =B58/B3 -> #DIV/0! | D58: Onset Rime | E58: =COUNTIFS('STUDENT DATA SHEET'!C5:C93,"=Transitional",'STUDENT DATA SHEET'!BP5:BP93,"=Onset Rime") -> 0 | F58: =E58/B3 -> #DIV/0!
A59: Comprehension | B59: =COUNTIFS('STUDENT DATA SHEET'!C5:C93,"=Transitional",'STUDENT DATA SHEET'!BO5:BO93,"=Comprehension") -> 0 | C59: =B59/B3 -> #DIV/0! | D59: Comprehension | E59: =COUNTIFS('STUDENT DATA SHEET'!C5:C93,"=Transitional",'STUDENT DATA SHEET'!BP5:BP93,"=Comprehension") -> 0 | F59: =E59/B3 -> #DIV/0!
A60: Writing | B60: =COUNTIFS('STUDENT DATA SHEET'!C5:C93,"=Transitional",'STUDENT DATA SHEET'!BO5:BO93,"=Writing") -> 0 | C60: =B60/B3 -> #DIV/0! | D60: Writing | E60: =COUNTIFS('STUDENT DATA SHEET'!C5:C93,"=Transitional",'STUDENT DATA SHEET'!BP5:BP93,"=Writing") -> 0 | F60: =E60/B3 -> #DIV/0!
A61: Working with Words | B61: =COUNTIFS('STUDENT DATA SHEET'!C5:C93,"=Transitional",'STUDENT DATA SHEET'!BO5:BO93,"=Working with Words") -> 0 | C61: =B61/B3 -> #DIV/0! | D61: Working with Words | E61: =COUNTIFS('STUDENT DATA SHEET'!C5:C93,"=Transitional",'STUDENT DATA SHEET'!BP5:BP93,"=Working with Words") -> 0 | F61: =E61/B3 -> #DIV/0!
A63: Conventional Focus Area #1 | B63: COUNT | C63: PERCENTAGE | D63: Conventional Focus Area #2 | E63: COUNT | F63: PERCENTAGE
A64: Working with Words | B64: =COUNTIFS('STUDENT DATA SHEET'!C5:C93,"=Conventional",'STUDENT DATA SHEET'!BU5:BU93,"=Working with Words") -> 0 | C64: =B64/C3 -> #DIV/0! | D64: Working with Words | E64: =COUNTIFS('STUDENT DATA SHEET'!C5:C93,"=Conventional",'STUDENT DATA SHEET'!BV5:BV93,"=Working with Words") -> 0 | F64: =E64/C3 -> #DIV/0!
...

Sheet STUDENT DATA SHEET
J1: BRIDGE | AS1: EMERGENT | BG1: TRANSITIONAL | BS1: CONVENTIONAL
J2: Physically handle/interact with books (8) | L2: Interact with Print (8) | N2: Direct/Take Ownership of Shared Literacy Experiences (8) | P2: Interact with Symbols During Shared Reading (8) | R2: Engage in the Act of Reading (8) | T2: Draw/Write Motor Item (8) | V2: Use Print: Cognitive/Linguistic Item (8) | X2: Use Symbolic Language (AAC) to Generate Print (8) | Z2: Write Name (8) | AB2: Interact with and Use Letters of the Alphabet (8) | AD2: Demonstrate Phonological Awareness (8) | AF2: Demonstrate Phonemic Awareness (8) | AH2: Use Oral Language/AAC During Literacy Activities (8) | AJ2: Engage in Story Telling/ Re-telling (8) | AL2: Writing with All Tools Continuum (9) | AN2: Focus Area | AO2: Concepts About Print (14) | AQ2: Letter Identification (52) | AS2: Writing with All Tools Continuum (9) | AU2: Focus Area #1 | AV2: Focus Area #2 | AW2: Letter Sounds (26) | AY2: Concept of Word (16) | BA2: Rhyme Identity (10) | BC2: Phoneme Matching (10) | BE2: Phoneme Awareness (42) | BG2: Basal Words (10) | BI2: Decodable Words (10) | BK2: Comprehension (10) | BM2: Writing with All Tools Continuum (18) | BO2: Focus Area #1 | BP2: Focus Area #2 | BQ2: Word Identification (Grade level equivalency) | BR2: Reading Comprehension (Grade level equivalency) | BS2: Listening Comprehension (Grade level equivalency) | BT2: Writing with All Tools Continuum (34) | BU2: Focus Area #1 | BV2: Focus Area #2
A3: Column1 | B3: Column110 | C3: Column2 | D3: Column215 | E3: Column214 | F3: Column213 | G3: Column212 | H3: Column211 | I3: Column210 | J3: Column2108 | K3: Column2107 | L3: Column2106 | M3: Column2105 | N3: Column2104 | O3: Column2103 | P3: Column21034 | Q3: Column21033 | R3: Column21032 | S3: Column210329 | T3: Column210328 | U3: Column210327 | V3: Column210326 | W3: Column210325 | X3: Column210324 | Y3: Column210323 | Z3: Column210322 | AA3: Column2103222 | AB3: Column210322211 | AC3: Column210322210 | AD3: Column21032229 | AE3: Column21032228 | AF3: Column21032227 | AG3: Column21032226 | AH3: Column21032225 | AI3: Column21032224 | AJ3: Column21032223 | AK3: Column21032222 | AL3: Column2103223 | AM3: Column2103224 | AN3: Column2102 | AO3: Column3 | AP3: Column4 | AQ3: Column5 | AR3: Column6 | AS3: Column7 | AT3: Column8 | AU3: Column9 | AV3: Column10 | AW3: Column11 | AX3: Column12 | AY3: Column13 | AZ3: Column14 | BA3: Column15 | BB3: Column16 | BC3: Column17 | BD3: Column18 | BE3: Column19 | BF3: Column20 | BG3: Column21 | BH3: Column22 | BI3: Column23 | BJ3: Column24 | BK3: Column25 | BL3: Column26 | BM3: Column27 | BN3: Column28 | BO3: Column29 | BP3: Column30 | BQ3: Column31 | BR3: Column32 | BS3: Column33 | BT3: Column34 | BU3: Column35 | BV3: Column36
A4: Student Name | B4: Teacher Name | C4: Literacy Level | D4: Grade | E4: Class | F4: Voice #1 | G4: Voice #2 | H4: Pencil #1 | I4: Pencil #2 | J4: Score | K4: Percentage | L4: Score | M4: Percentage | N4: Score | O4: Percentage | P4: Score | Q4: Percentage | R4: Score | S4: Percentage | T4: Score | U4: Percentage | V4: Score | W4: Percentage | X4: Score | Y4: Percentage | Z4: Score | AA4: Percentage | AB4: Score | AC4: Percentage | AD4: Score | AE4: Percentage | AF4: Score | AG4: Percentage | AH4: Score | AI4: Percentage | AJ4: Score | AK4: Percentage | AL4: Score | AM4: Percentage | AO4: Score | AP4: Percentage | AQ4: Score | AR4: Percentage | AS4: Score | AT4: Percentage | AW4: Score | AX4: Percentage | AY4: Score | AZ4: Percentage | BA4: Score | BB4: Percentage | BC4: Score | BD4: Percentage | BE4: Score | BF4: Percentage | BG4: Score | BH4: Percentage | BI4: Score | BJ4: Percentage | BK4: Score | BL4: Percentage | BM4: Score | BN4: Percentage | BQ4: Score | BR4: Score | BS4: Score | BT4: Score
K5: =J5/8 -> 0 | M5: =L5/8 -> 0 | O5: =N5/8 -> 0 | Q5: =P5/8 -> 0 | S5: =R5/8 -> 0 | U5: =T5/8 -> 0 | W5: =V5/8 -> 0 | Y5: =X5/8 -> 0 | AA5: =Z5/8 -> 0 | AC5: =AB5/8 -> 0 | AE5: =AD5/8 -> 0 | AG5: =AF5/8 -> 0 | AI5: =AH5/8 -> 0 | AK5: =AJ5/8 -> 0 | AM5: =AL5/9 -> 0 | AP5: =AO5/14 -> 0 | AR5: =AQ5/52 -> 0 | AT5: =AS5/9 -> 0 | AX5: =AW5/26 -> 0 | AZ5: =AY5/16 -> 0 | BB5: =BA5/10 -> 0 | BD5: =BC5/10 -> 0 | BF5: =BE5/42 -> 0 | BH5: =BG5/10 -> 0 | BJ5: =BI5/10 -> 0 | BL5: =BK5/10 -> 0 | BN5: =BM5/18 -> 0
K6: =J6/8 -> 0 | M6: =L6/8 -> 0 | O6: =N6/8 -> 0 | Q6: =P6/8 -> 0 | S6: =R6/8 -> 0 | U6: =T6/8 -> 0 | W6: =V6/8 -> 0 | Y6: =X6/8 -> 0 | AA6: =Z6/8 -> 0 | AC6: =AB6/8 -> 0 | AE6: =AD6/8 -> 0 | AG6: =AF6/8 -> 0 | AI6: =AH6/8 -> 0 | AK6: =AJ6/8 -> 0 | AM6: =AL6/9 -> 0 | AP6: =AO6/14 -> 0 | AR6: =AQ6/52 -> 0 | AT6: =AS6/9 -> 0 | AX6: =AW6/26 -> 0 | AZ6: =AY6/16 -> 0 | BB6: =BA6/10 -> 0 | BD6: =BC6/10 -> 0 | BF6: =BE6/42 -> 0 | BH6: =BG6/10 -> 0 | BJ6: =BI6/10 -> 0 | BL6: =BK6/10 -> 0 | BN6: =BM6/18 -> 0
K7: =J7/8 -> 0 | M7: =L7/8 -> 0 | O7: =N7/8 -> 0 | Q7: =P7/8 -> 0 | S7: =R7/8 -> 0 | U7: =T7/8 -> 0 | W7: =V7/8 -> 0 | Y7: =X7/8 -> 0 | AA7: =Z7/8 -> 0 | AC7: =AB7/8 -> 0 | AE7: =AD7/8 -> 0 | AG7: =AF7/8 -> 0 | AI7: =AH7/8 -> 0 | AK7: =AJ7/8 -> 0 | AM7: =AL7/9 -> 0 | AP7: =AO7/14 -> 0 | AR7: =AQ7/52 -> 0 | AT7: =AS7/9 -> 0 | AX7: =AW7/26 -> 0 | AZ7: =AY7/16 -> 0 | BB7: =BA7/10 -> 0 | BD7: =BC7/10 -> 0 | BF7: =BE7/42 -> 0 | BH7: =BG7/10 -> 0 | BJ7: =BI7/10 -> 0 | BL7: =BK7/10 -> 0 | BN7: =BM7/18 -> 0
K8: =J8/8 -> 0 | M8: =L8/8 -> 0 | O8: =N8/8 -> 0 | Q8: =P8/8 -> 0 | S8: =R8/8 -> 0 | U8: =T8/8 -> 0 | W8: =V8/8 -> 0 | Y8: =X8/8 -> 0 | AA8: =Z8/8 -> 0 | AC8: =AB8/8 -> 0 | AE8: =AD8/8 -> 0 | AG8: =AF8/8 -> 0 | AI8: =AH8/8 -> 0 | AK8: =AJ8/8 -> 0 | AM8: =AL8/9 -> 0 | AP8: =AO8/14 -> 0 | AR8: =AQ8/52 -> 0 | AT8: =AS8/9 -> 0 | AX8: =AW8/26 -> 0 | AZ8: =AY8/16 -> 0 | BB8: =BA8/10 -> 0 | BD8: =BC8/10 -> 0 | BF8: =BE8/42 -> 0 | BH8: =BG8/10 -> 0 | BJ8: =BI8/10 -> 0 | BL8: =BK8/10 -> 0 | BN8: =BM8/18 -> 0
K9: =J9/8 -> 0 | M9: =L9/8 -> 0 | O9: =N9/8 -> 0 | Q9: =P9/8 -> 0 | S9: =R9/8 -> 0 | U9: =T9/8 -> 0 | W9: =V9/8 -> 0 | Y9: =X9/8 -> 0 | AA9: =Z9/8 -> 0 | AC9: =AB9/8 -> 0 | AE9: =AD9/8 -> 0 | AG9: =AF9/8 -> 0 | AI9: =AH9/8 -> 0 | AK9: =AJ9/8 -> 0 | AM9: =AL9/9 -> 0 | AP9: =AO9/14 -> 0 | AR9: =AQ9/52 -> 0 | AT9: =AS9/9 -> 0 | AX9: =AW9/26 -> 0 | AZ9: =AY9/16 -> 0 | BB9: =BA9/10 -> 0 | BD9: =BC9/10 -> 0 | BF9: =BE9/42 -> 0 | BH9: =BG9/10 -> 0 | BJ9: =BI9/10 -> 0 | BL9: =BK9/10 -> 0 | BN9: =BM9/18 -> 0
K10: =J10/8 -> 0 | M10: =L10/8 -> 0 | O10: =N10/8 -> 0 | Q10: =P10/8 -> 0 | S10: =R10/8 -> 0 | U10: =T10/8 -> 0 | W10: =V10/8 -> 0 | Y10: =X10/8 -> 0 | AA10: =Z10/8 -> 0 | AC10: =AB10/8 -> 0 | AE10: =AD10/8 -> 0 | AG10: =AF10/8 -> 0 | AI10: =AH10/8 -> 0 | AK10: =AJ10/8 -> 0 | AM10: =AL10/9 -> 0 | AP10: =AO10/14 -> 0 | AR10: =AQ10/52 -> 0 | AT10: =AS10/9 -> 0 | AX10: =AW10/26 -> 0 | AZ10: =AY10/16 -> 0 | BB10: =BA10/10 -> 0 | BD10: =BC10/10 -> 0 | BF10: =BE10/42 -> 0 | BH10: =BG10/10 -> 0 | BJ10: =BI10/10 -> 0 | BL10: =BK10/10 -> 0 | BN10: =BM10/18 -> 0
K11: =J11/8 -> 0 | M11: =L11/8 -> 0 | O11: =N11/8 -> 0 | Q11: =P11/8 -> 0 | S11: =R11/8 -> 0 | U11: =T11/8 -> 0 | W11: =V11/8 -> 0 | Y11: =X11/8 -> 0 | AA11: =Z11/8 -> 0 | AC11: =AB11/8 -> 0 | AE11: =AD11/8 -> 0 | AG11: =AF11/8 -> 0 | AI11: =AH11/8 -> 0 | AK11: =AJ11/8 -> 0 | AM11: =AL11/9 -> 0 | AP11: =AO11/14 -> 0 | AR11: =AQ11/52 -> 0 | AT11: =AS11/9 -> 0 | AX11: =AW11/26 -> 0 | AZ11: =AY11/16 -> 0 | BB11: =BA11/10 -> 0 | BD11: =BC11/10 -> 0 | BF11: =BE11/42 -> 0 | BH11: =BG11/10 -> 0 | BJ11: =BI11/10 -> 0 | BL11: =BK11/10 -> 0 | BN11: =BM11/18 -> 0
K12: =J12/8 -> 0 | M12: =L12/8 -> 0 | O12: =N12/8 -> 0 | Q12: =P12/8 -> 0 | S12: =R12/8 -> 0 | U12: =T12/8 -> 0 | W12: =V12/8 -> 0 | Y12: =X12/8 -> 0 | AA12: =Z12/8 -> 0 | AC12: =AB12/8 -> 0 | AE12: =AD12/8 -> 0 | AG12: =AF12/8 -> 0 | AI12: =AH12/8 -> 0 | AK12: =AJ12/8 -> 0 | AM12: =AL12/9 -> 0 | AP12: =AO12/14 -> 0 | AR12: =AQ12/52 -> 0 | AT12: =AS12/9 -> 0 | AX12: =AW12/26 -> 0 | AZ12: =AY12/16 -> 0 | BB12: =BA12/10 -> 0 | BD12: =BC12/10 -> 0 | BF12: =BE12/42 -> 0 | BH12: =BG12/10 -> 0 | BJ12: =BI12/10 -> 0 | BL12: =BK12/10 -> 0 | BN12: =BM12/18 -> 0
K13: =J13/8 -> 0 | M13: =L13/8 -> 0 | O13: =N13/8 -> 0 | Q13: =P13/8 -> 0 | S13: =R13/8 -> 0 | U13: =T13/8 -> 0 | W13: =V13/8 -> 0 | Y13: =X13/8 -> 0 | AA13: =Z13/8 -> 0 | AC13: =AB13/8 -> 0 | AE13: =AD13/8 -> 0 | AG13: =AF13/8 -> 0 | AI13: =AH13/8 -> 0 | AK13: =AJ13/8 -> 0 | AM13: =AL13/9 -> 0 | AP13: =AO13/14 -> 0 | AR13: =AQ13/52 -> 0 | AT13: =AS13/9 -> 0 | AX13: =AW13/26 -> 0 | AZ13: =AY13/16 -> 0 | BB13: =BA13/10 -> 0 | BD13: =BC13/10 -> 0 | BF13: =BE13/42 -> 0 | BH13: =BG13/10 -> 0 | BJ13: =BI13/10 -> 0 | BL13: =BK13/10 -> 0 | BN13: =BM13/18 -> 0
K14: =J14/8 -> 0 | M14: =L14/8 -> 0 | O14: =N14/8 -> 0 | Q14: =P14/8 -> 0 | S14: =R14/8 -> 0 | U14: =T14/8 -> 0 | W14: =V14/8 -> 0 | Y14: =X14/8 -> 0 | AA14: =Z14/8 -> 0 | AC14: =AB14/8 -> 0 | AE14: =AD14/8 -> 0 | AG14: =AF14/8 -> 0 | AI14: =AH14/8 -> 0 | AK14: =AJ14/8 -> 0 | AM14: =AL14/9 -> 0 | AP14: =AO14/14 -> 0 | AR14: =AQ14/52 -> 0 | AT14: =AS14/9 -> 0 | AX14: =AW14/26 -> 0 | AZ14: =AY14/16 -> 0 | BB14: =BA14/10 -> 0 | BD14: =BC14/10 -> 0 | BF14: =BE14/42 -> 0 | BH14: =BG14/10 -> 0 | BJ14: =BI14/10 -> 0 | BL14: =BK14/10 -> 0 | BN14: =BM14/18 -> 0
K15: =J15/8 -> 0 | M15: =L15/8 -> 0 | O15: =N15/8 -> 0 | Q15: =P15/8 -> 0 | S15: =R15/8 -> 0 | U15: =T15/8 -> 0 | W15: =V15/8 -> 0 | Y15: =X15/8 -> 0 | AA15: =Z15/8 -> 0 | AC15: =AB15/8 -> 0 | AE15: =AD15/8 -> 0 | AG15: =AF15/8 -> 0 | AI15: =AH15/8 -> 0 | AK15: =AJ15/8 -> 0 | AM15: =AL15/9 -> 0 | AP15: =AO15/14 -> 0 | AR15: =AQ15/52 -> 0 | AT15: =AS15/9 -> 0 | AX15: =AW15/26 -> 0 | AZ15: =AY15/16 -> 0 | BB15: =BA15/10 -> 0 | BD15: =BC15/10 -> 0 | BF15: =BE15/42 -> 0 | BH15: =BG15/10 -> 0 | BJ15: =BI15/10 -> 0 | BL15: =BK15/10 -> 0 | BN15: =BM15/18 -> 0
K16: =J16/8 -> 0 | M16: =L16/8 -> 0 | O16: =N16/8 -> 0 | Q16: =P16/8 -> 0 | S16: =R16/8 -> 0 | U16: =T16/8 -> 0 | W16: =V16/8 -> 0 | Y16: =X16/8 -> 0 | AA16: =Z16/8 -> 0 | AC16: =AB16/8 -> 0 | AE16: =AD16/8 -> 0 | AG16: =AF16/8 -> 0 | AI16: =AH16/8 -> 0 | AK16: =AJ16/8 -> 0 | AM16: =AL16/9 -> 0 | AP16: =AO16/14 -> 0 | AR16: =AQ16/52 -> 0 | AT16: =AS16/9 -> 0 | AX16: =AW16/26 -> 0 | AZ16: =AY16/16 -> 0 | BB16: =BA16/10 -> 0 | BD16: =BC16/10 -> 0 | BF16: =BE16/42 -> 0 | BH16: =BG16/10 -> 0 | BJ16: =BI16/10 -> 0 | BL16: =BK16/10 -> 0 | BN16: =BM16/18 -> 0
... K91: =J91/8 -> 0 | M91: =L91/8 -> 0 | O91: =N91/8 -> 0 | Q91: =P91/8 -> 0 | S91: =R91/8 -> 0 | U91: =T91/8 -> 0 | W91: =V91/8 -> 0 | Y91: =X91/8 -> 0 | AA91: =Z91/8 -> 0 | AC91: =AB91/8 -> 0 | AE91: =AD91/8 -> 0 | AG91: =AF91/8 -> 0 | AI91: =AH91/8 -> 0 | AK91: =AJ91/8 -> 0 | AM91: =AL91/9 -> 0 | AP91: =AO91/14 -> 0 | AR91: =AQ91/52 -> 0 | AT91: =AS91/9 -> 0 | AX91: =AW91/26 -> 0 | AZ91: =AY91/16 -> 0 | BB91: =BA91/10 -> 0 | BD91: =BC91/10 -> 0 | BF91: =BE91/42 -> 0 | BH91: =BG91/10 -> 0 | BJ91: =BI91/10 -> 0 | BL91: =BK91/10 -> 0 | BN91: =BM91/18 -> 0

Sheet COPY - Do not use
I4: Return to Student Data Sheet
C11: DATE | D11: =TODAY() -> 44944
C13: Student Name | E13: Voice #1 | F13: =VLOOKUP($D$13,'STUDENT DATA SHEET'!$A$1:$BV$91,6,FALSE) -> #N/A
C14: Grade | D14: =VLOOKUP($D$13,'STUDENT DATA SHEET'!$A$1:$BV$91,4,FALSE) -> #N/A | E14: Voice #2 | F14: =VLOOKUP($D$13,'STUDENT DATA SHEET'!$A$1:$BV$91,7,FALSE) -> #N/A
C15: Class | D15: =VLOOKUP($D$13,'STUDENT DATA SHEET'!$A$1:$BV$91,5,FALSE) -> #N/A | E15: Pencil #1 | F15: =VLOOKUP($D$13,'STUDENT DATA SHEET'!$A$1:$BV$91,8,FALSE) -> #N/A
C16: Teacher | D16: =VLOOKUP($D$13,'STUDENT DATA SHEET'!$A$1:$BV$91,2,FALSE) -> #N/A | E16: Pencil #2 | F16: =VLOOKUP($D$13,'STUDENT DATA SHEET'!$A$1:$BV$91,9,FALSE) -> #N/A
C18: Literacy Level | D18: =VLOOKUP($D$13,'STUDENT DATA SHEET'!$A$1:$BV$91,3,FALSE) -> #N/A
C19: Focus Area #1 | D19: =IF($D$18="Emergent",VLOOKUP($D$13,'STUDENT DATA SHEET'!$A$1:$BV$91,47,FALSE),IF($D$18="Transitional",VLOOKUP($D$13,'STUDENT DATA SHEET'!$A$1:$BV$91,67,FALSE),IF($D$18="Conventional",VLOOKUP($D$13,'STUDENT DATA SHEET'!$A$1:$BV$91,73,FALSE)))) -> #N/A | E19: Focus Area #2 | F19: =IF($D$18="Emergent",VLOOKUP($D$13,'STUDENT DATA SHEET'!$A$1:$BV$91,48,FALSE),IF($D$18="Transitional",VLOOKUP($D$13,'STUDENT DATA SHEET'!$A$1:$BV$91,68,FALSE),IF($D$18="Conventional",VLOOKUP($D$13,'STUDENT DATA SHEET'!$A$1:$BV$91,74,FALSE)))) -> #N/A
D21: SCORE | E21: PERCENTAGE
C22: =IF($D$18="Emergent","Concept About Print (14)",IF($D$18="Transitional","Letter Sounds (26)","Word Identification")) -> #N/A | D22: =IF($D$18="Emergent",VLOOKUP($D$13,'STUDENT DATA SHEET'!$A$1:$BV$91,41,FALSE),IF($D$18="Transitional",VLOOKUP($D$13,'STUDENT DATA SHEET'!$A$1:$BV$91,49,FALSE),IF($D$18="Conventional",VLOOKUP($D$13,'STUDENT DATA SHEET'!$A$1:$BV$91,69,FALSE)))) -> #N/A | E22: =IF($D$18="Emergent",VLOOKUP($D$13,'STUDENT DATA SHEET'!$A$1:$BV$91,42,FALSE),IF($D$18="Transitional",VLOOKUP($D$13,'STUDENT DATA SHEET'!$A$1:$BV$91,50,FALSE),IF($D$18="Conventional","N/A"))) -> #N/A
C23: =IF($D$18="Emergent","Letter Identification (52)",IF($D$18="Transitional","Concept of Word (16)","Reading Comprehension")) -> #N/A | D23: =IF($D$18="Emergent",VLOOKUP($D$13,'STUDENT DATA SHEET'!$A$1:$BV$91,43,FALSE),IF($D$18="Transitional",VLOOKUP($D$13,'STUDENT DATA SHEET'!$A$1:$BV$91,51,FALSE),IF($D$18="Conventional",VLOOKUP($D$13,'STUDENT DATA SHEET'!$A$1:$BV$91,70,FALSE)))) -> #N/A | E23: =IF($D$18="Emergent",VLOOKUP($D$13,'STUDENT DATA SHEET'!$A$1:$BV$91,44,FALSE),IF($D$18="Transitional",VLOOKUP($D$13,'STUDENT DATA SHEET'!$A$1:$BV$91,52,FALSE),IF($D$18="Conventional","N/A"))) -> #N/A
C24: =IF($D$18="Emergent","Developmental Writing (1-14)",IF($D$18="Transitional","Rhyme Identity (10)","Listening Comprehension")) -> #N/A | D24: =IF($D$18="Emergent",VLOOKUP($D$13,'STUDENT DATA SHEET'!$A$1:$BV$91,45,FALSE),IF($D$18="Transitional",VLOOKUP($D$13,'STUDENT DATA SHEET'!$A$1:$BV$91,53,FALSE),IF($D$18="Conventional",VLOOKUP($D$13,'STUDENT DATA SHEET'!$A$1:$BV$91,71,FALSE)))) -> #N/A | E24: =IF($D$18="Emergent",VLOOKUP($D$13,'STUDENT DATA SHEET'!$A$1:$BV$91,46,FALSE),IF($D$18="Transitional",VLOOKUP($D$13,'STUDENT DATA SHEET'!$A$1:$BV$91,54,FALSE),IF($D$18="Conventional","N/A"))) -> #N/A
C25: =IF($D$18="Emergent","",IF($D$18="Transitional","Phoneme Matching (10)","Developmental Writing (1-14)")) -> #N/A | D25: =IF($D$18="Emergent","",IF($D$18="Transitional",VLOOKUP($D$13,'STUDENT DATA SHEET'!$A$1:$BV$91,55,FALSE),IF($D$18="Conventional",VLOOKUP($D$13,'STUDENT DATA SHEET'!$A$1:$BV$91,72,FALSE)))) -> #N/A | E25: =IF($D$18="Emergent","",IF($D$18="Transitional",VLOOKUP($D$13,'STUDENT DATA SHEET'!$A$1:$BV$91,56,FALSE),IF($D$18="Conventional","N/A"))) -> #N/A
C26: =IF($D$18="Emergent","",IF($D$18="Transitional","Phoneme Awareness (42)","")) -> #N/A | D26: =IF($D$18="Emergent","",IF($D$18="Transitional",VLOOKUP($D$13,'STUDENT DATA SHEET'!$A$1:$BV$91,57,FALSE),IF($D$18="Conventional",""))) -> #N/A | E26: =IF($D$18="Emergent","",IF($D$18="Transitional",VLOOKUP($D$13,'STUDENT DATA SHEET'!$A$1:$BV$91,58,FALSE),IF($D$18="Conventional",""))) -> #N/A
C27: =IF($D$18="Emergent","",IF($D$18="Transitional","Basal Words (10)","")) -> #N/A | D27: =IF($D$18="Emergent","",IF($D$18="Transitional",VLOOKUP($D$13,'STUDENT DATA SHEET'!$A$1:$BV$91,59,FALSE),IF($D$18="Conventional",""))) -> #N/A | E27: =IF($D$18="Emergent","",IF($D$18="Transitional",VLOOKUP($D$13,'STUDENT DATA SHEET'!$A$1:$BV$91,60,FALSE),IF($D$18="Conventional",""))) -> #N/A
C28: =IF($D$18="Emergent","",IF($D$18="Transitional","Decodable Words (10)","")) -> #N/A | D28: =IF($D$18="Emergent","",IF($D$18="Transitional",VLOOKUP($D$13,'STUDENT DATA SHEET'!$A$1:$BV$91,61,FALSE),IF($D$18="Conventional",""))) -> #N/A | E28: =IF($D$18="Emergent","",IF($D$18="Transitional",VLOOKUP($D$13,'STUDENT DATA SHEET'!$A$1:$BV$91,62,FALSE),IF($D$18="Conventional",""))) -> #N/A
C29: =IF($D$18="Emergent","",IF($D$18="Transitional","Comprehension (10)","")) -> #N/A | D29: =IF($D$18="Emergent","",IF($D$18="Transitional",VLOOKUP($D$13,'STUDENT DATA SHEET'!$A$1:$BV$91,63,FALSE),IF($D$18="Conventional",""))) -> #N/A | E29: =IF($D$18="Emergent","",IF($D$18="Transitional",VLOOKUP($D$13,'STUDENT DATA SHEET'!$A$1:$BV$91,64,FALSE),IF($D$18="Conventional",""))) -> #N/A
C30: =IF($D$18="Emergent","",IF($D$18="Transitional","Developmental Writing (1-14)","")) -> #N/A | D30: =IF($D$18="Emergent","",IF($D$18="Transitional",VLOOKUP($D$13,'STUDENT DATA SHEET'!$A$1:$BV$91,65,FALSE),IF($D$18="Conventional",""))) -> #N/A | E30: =IF($D$18="Emergent","",IF($D$18="Transitional",VLOOKUP($D$13,'STUDENT DATA SHEET'!$A$1:$BV$91,66,FALSE),IF($D$18="Conventional",""))) -> #N/A

Sheet COPY - BRIDGE
J6: Return to Student Data Sheet
C11: DATE | D11: =TODAY() -> 44944
C13: Student Name | E13: Voice #1 | F13: =VLOOKUP($D$13,'STUDENT DATA SHEET'!$A$1:$BV$91,6,FALSE) -> #N/A
C14: Grade | D14: =VLOOKUP($D$13,'STUDENT DATA SHEET'!$A$1:$BV$91,4,FALSE) -> #N/A | E14: Voice #2 | F14: =VLOOKUP($D$13,'STUDENT DATA SHEET'!$A$1:$BV$91,7,FALSE) -> #N/A
C15: Class | D15: =VLOOKUP($D$13,'STUDENT DATA SHEET'!$A$1:$BV$91,5,FALSE) -> #N/A | E15: Pencil #1 | F15: =VLOOKUP($D$13,'STUDENT DATA SHEET'!$A$1:$BV$91,8,FALSE) -> #N/A
C16: Teacher | D16: =VLOOKUP($D$13,'STUDENT DATA SHEET'!$A$1:$BV$91,2,FALSE) -> #N/A | E16: Pencil #2 | F16: =VLOOKUP($D$13,'STUDENT DATA SHEET'!$A$1:$BV$91,9,FALSE) -> #N/A
C18: Literacy Level | D18: =VLOOKUP($D$13,'STUDENT DATA SHEET'!$A$1:$BV$91,3,FALSE) -> #N/A
C19: Focus Area | D19: =VLOOKUP($D$13,'STUDENT DATA SHEET'!$A$1:$BV$91,40,FALSE) -> #N/A
C21: BRIDGE | D21: SCORE | E21: PERCENTAGE | F21: EMERGENT | G21: SCORE | H21: PERCENTAGE
C22: Physically handle/interact with books (8) | D22: =VLOOKUP($D$13,'STUDENT DATA SHEET'!$A$1:$BV$91,10,FALSE) -> #N/A | E22: =VLOOKUP($D$13,'STUDENT DATA SHEET'!$A$1:$BV$91,11,FALSE) -> #N/A | F22: Concepts About Print (14) | G22: =VLOOKUP($D$13,'STUDENT DATA SHEET'!$A$1:$BV$91,41,FALSE) -> #N/A | H22: =VLOOKUP($D$13,'STUDENT DATA SHEET'!$A$1:$BV$91,42,FALSE) -> #N/A
C23: Interact with Print (8) | D23: =VLOOKUP($D$13,'STUDENT DATA SHEET'!$A$1:$BV$91,12,FALSE) -> #N/A | E23: =VLOOKUP($D$13,'STUDENT DATA SHEET'!$A$1:$BV$91,13,FALSE) -> #N/A | F23: Letter Identification (52) | G23: =VLOOKUP($D$13,'STUDENT DATA SHEET'!$A$1:$BV$91,43,FALSE) -> #N/A | H23: =VLOOKUP($D$13,'STUDENT DATA SHEET'!$A$1:$BV$91,44,FALSE) -> #N/A
C24: Direct/Take Ownership of Shared Literacy Experiences (8) | D24: =VLOOKUP($D$13,'STUDENT DATA SHEET'!$A$1:$BV$91,14,FALSE) -> #N/A | E24: =VLOOKUP($D$13,'STUDENT DATA SHEET'!$A$1:$BV$91,15,FALSE) -> #N/A | F24: Developmental Writing (1 - 14) | G24: =VLOOKUP($D$13,'STUDENT DATA SHEET'!$A$1:$BV$91,45,FALSE) -> #N/A | H24: =VLOOKUP($D$13,'STUDENT DATA SHEET'!$A$1:$BV$91,46,FALSE) -> #N/A
C25: Interact with Symbols During Shared Reading (8) | D25: =VLOOKUP($D$13,'STUDENT DATA SHEET'!$A$1:$BV$91,16,FALSE) -> #N/A | E25: =VLOOKUP($D$13,'STUDENT DATA SHEET'!$A$1:$BV$91,17,FALSE) -> #N/A
C26: Engage in the Act of Reading (8) | D26: =VLOOKUP($D$13,'STUDENT DATA SHEET'!$A$1:$BV$91,18,FALSE) -> #N/A | E26: =VLOOKUP($D$13,'STUDENT DATA SHEET'!$A$1:$BV$91,19,FALSE) -> #N/A
C27: Draw/Write Motor Item (8) | D27: =VLOOKUP($D$13,'STUDENT DATA SHEET'!$A$1:$BV$91,20,FALSE) -> #N/A | E27: =VLOOKUP($D$13,'STUDENT DATA SHEET'!$A$1:$BV$91,21,FALSE) -> #N/A
C28: Use Print: Cognitive/Linguistic Item (8) | D28: =VLOOKUP($D$13,'STUDENT DATA SHEET'!$A$1:$BV$91,22,FALSE) -> #N/A | E28: =VLOOKUP($D$13,'STUDENT DATA SHEET'!$A$1:$BV$91,23,FALSE) -> #N/A
C29: Use Symbolic Language (AAC) to Generate Print (8) | D29: =VLOOKUP($D$13,'STUDENT DATA SHEET'!$A$1:$BV$91,24,FALSE) -> #N/A | E29: =VLOOKUP($D$13,'STUDENT DATA SHEET'!$A$1:$BV$91,25,FALSE) -> #N/A
C30: Write Name (8) | D30: =VLOOKUP($D$13,'STUDENT DATA SHEET'!$A$1:$BV$91,26,FALSE) -> #N/A | E30: =VLOOKUP($D$13,'STUDENT DATA SHEET'!$A$1:$BV$91,27,FALSE) -> #N/A
C31: Interact with and Use Letters of the Alphabet (8) | D31: =VLOOKUP($D$13,'STUDENT DATA SHEET'!$A$1:$BV$91,28,FALSE) -> #N/A | E31: =VLOOKUP($D$13,'STUDENT DATA SHEET'!$A$1:$BV$91,29,FALSE) -> #N/A
C32: Demonstrate Phonological Awareness (8) | D32: =VLOOKUP($D$13,'STUDENT DATA SHEET'!$A$1:$BV$91,30,FALSE) -> #N/A | E32: =VLOOKUP($D$13,'STUDENT DATA SHEET'!$A$1:$BV$91,31,FALSE) -> #N/A
C33: Demonstrate Phonemic Awareness (8) | D33: =VLOOKUP($D$13,'STUDENT DATA SHEET'!$A$1:$BV$91,32,FALSE) -> #N/A | E33: =VLOOKUP($D$13,'STUDENT DATA SHEET'!$A$1:$BV$91,33,FALSE) -> #N/A
C34: Use Oral Language/AAC During Literacy Activities (8) | D34: =VLOOKUP($D$13,'STUDENT DATA SHEET'!$A$1:$BV$91,34,FALSE) -> #N/A | E34: =VLOOKUP($D$13,'STUDENT DATA SHEET'!$A$1:$BV$91,35,FALSE) -> #N/A
C35: Engage in Story Telling/Re-telling (8) | D35: =VLOOKUP($D$13,'STUDENT DATA SHEET'!$A$1:$BV$91,36,FALSE) -> #N/A | E35: =VLOOKUP($D$13,'STUDENT DATA SHEET'!$A$1:$BV$91,37,FALSE) -> #N/A
C36: Developmental Writing (1 - 14) | D36: =VLOOKUP($D$13,'STUDENT DATA SHEET'!$A$1:$BV$91,38,FALSE) -> #N/A | E36: =VLOOKUP($D$13,'STUDENT DATA SHEET'!$A$1:$BV$91,39,FALSE) -> #N/A
